BEGIN:VCALENDAR
VERSION:2.0
PRODID:-//OLG St.Gallen/Appenzell - ECPv4.6.21//NONSGML v1.0//EN
CALSCALE:GREGORIAN
METHOD:PUBLISH
X-WR-CALNAME:OLG St.Gallen/Appenzell
X-ORIGINAL-URL:http://www.olgsga.ch
X-WR-CALDESC:Veranstaltungen für OLG St.Gallen/Appenzell
BEGIN:VEVENT
DTSTART;VALUE=DATE:20220422
DTEND;VALUE=DATE:20220424
DTSTAMP:20260420T234818
CREATED:20220327T103507Z
LAST-MODIFIED:20220327T103507Z
UID:26893-1650600000-1650686399@www.olgsga.ch
SUMMARY:Öpfel-Trophy: Gachnang
DESCRIPTION:weitere Informationen: www.oepfel-trophy.ch \n
URL:http://www.olgsga.ch/event/oepfel-trophy-gachnang/
CATEGORIES:Regionale Saison
END:VEVENT
END:VCALENDAR