BEGIN:VCALENDAR
VERSION:2.0
PRODID:-//OLG St.Gallen/Appenzell - ECPv4.6.21//NONSGML v1.0//EN
CALSCALE:GREGORIAN
METHOD:PUBLISH
X-WR-CALNAME:OLG St.Gallen/Appenzell
X-ORIGINAL-URL:http://www.olgsga.ch
X-WR-CALDESC:Veranstaltungen für OLG St.Gallen/Appenzell
BEGIN:VEVENT
DTSTART;VALUE=DATE:20250620
DTEND;VALUE=DATE:20250622
DTSTAMP:20260421T142913
CREATED:20241207T211516Z
LAST-MODIFIED:20241207T211516Z
UID:40152-1750392000-1750478399@www.olgsga.ch
SUMMARY:Öpfel-Trophy: Bischofszell
DESCRIPTION:weitere Informationen: www.oepfel-trophy.ch \n
URL:http://www.olgsga.ch/event/oepfel-trophy-bischofszell-3/
CATEGORIES:diverse Anlässe
END:VEVENT
END:VCALENDAR