BEGIN:VCALENDAR
VERSION:2.0
PRODID:-//OLG St.Gallen/Appenzell - ECPv4.6.21//NONSGML v1.0//EN
CALSCALE:GREGORIAN
METHOD:PUBLISH
X-WR-CALNAME:OLG St.Gallen/Appenzell
X-ORIGINAL-URL:http://www.olgsga.ch
X-WR-CALDESC:Veranstaltungen für OLG St.Gallen/Appenzell
BEGIN:VEVENT
DTSTART;VALUE=DATE:20210813
DTEND;VALUE=DATE:20210815
DTSTAMP:20260420T164749
CREATED:20210805T150702Z
LAST-MODIFIED:20210805T150702Z
UID:21159-1628827200-1628913599@www.olgsga.ch
SUMMARY:Öpfel-Trophy: Balterswil
DESCRIPTION:weitere Informationen: www.oepfel-trophy.ch \n
URL:http://www.olgsga.ch/event/oepfel-trophy-balterswil-3/
CATEGORIES:Regionale Saison
END:VEVENT
END:VCALENDAR