BEGIN:VCALENDAR
VERSION:2.0
PRODID:-//OLG St.Gallen/Appenzell - ECPv4.6.21//NONSGML v1.0//EN
CALSCALE:GREGORIAN
METHOD:PUBLISH
X-WR-CALNAME:OLG St.Gallen/Appenzell
X-ORIGINAL-URL:http://www.olgsga.ch
X-WR-CALDESC:Veranstaltungen für OLG St.Gallen/Appenzell
BEGIN:VEVENT
DTSTART;TZID=Europe/Zurich:20200119T100000
DTEND;TZID=Europe/Zurich:20200119T100000
DTSTAMP:20260421T111608
CREATED:20191209T204736Z
LAST-MODIFIED:20191209T204736Z
UID:16240-1579428000-1579428000@www.olgsga.ch
SUMMARY:NOSOL-Training
DESCRIPTION:\n\n\nKarte (Stand):\nBiessenhoferwald (2018)\n\n\nThema:\nRichtungswechsel\n\n\nBahnlegung:\nChristian Kreis\, OL Amriswil\n\n\nBesammlungsort:\nSporthalle Tellenfeld\, Amriswil (Karte)\nParallel mit KO-Hallensprint\n\n\nAnmeldung*:\nhttp://bit.ly/NOSOL\n\n\n\n* Bitte meldet euch zwecks Kartendruck bis 3 Tage vor dem Training (20.00 Uhr) an. Trainingsteilnahme ohne Anmeldung ist zwar auch möglich\, aber wir sind froh um eine ungefähre Zahl an Trainingsteilnehmern. \n
URL:http://www.olgsga.ch/event/nosol-training-57/
CATEGORIES:Regionale Saison,Training
END:VEVENT
END:VCALENDAR