BEGIN:VCALENDAR
VERSION:2.0
PRODID:-//OLG St.Gallen/Appenzell - ECPv4.6.21//NONSGML v1.0//EN
CALSCALE:GREGORIAN
METHOD:PUBLISH
X-WR-CALNAME:OLG St.Gallen/Appenzell
X-ORIGINAL-URL:http://www.olgsga.ch
X-WR-CALDESC:Veranstaltungen für OLG St.Gallen/Appenzell
BEGIN:VEVENT
DTSTART;VALUE=DATE:20250627
DTEND;VALUE=DATE:20250629
DTSTAMP:20260421T142227
CREATED:20241207T205711Z
LAST-MODIFIED:20241207T205711Z
UID:40125-1750996800-1751083199@www.olgsga.ch
SUMMARY:Muntlagr Dorf OL
DESCRIPTION:\n\n\nOrt:\nMontlingen\n\n\nDetails:\nhttp://www.og-montlingen.ch/dorf-ol\n\n\n\n
URL:http://www.olgsga.ch/event/muntlagr-dorf-ol-2/
CATEGORIES:diverse Anlässe
END:VEVENT
END:VCALENDAR