BEGIN:VCALENDAR
VERSION:2.0
PRODID:-//OLG St.Gallen/Appenzell - ECPv4.6.21//NONSGML v1.0//EN
CALSCALE:GREGORIAN
METHOD:PUBLISH
X-WR-CALNAME:OLG St.Gallen/Appenzell
X-ORIGINAL-URL:http://www.olgsga.ch
X-WR-CALDESC:Veranstaltungen für OLG St.Gallen/Appenzell
BEGIN:VEVENT
DTSTART;VALUE=DATE:20250914
DTEND;VALUE=DATE:20250916
DTSTAMP:20260421T093114
CREATED:20241207T202947Z
LAST-MODIFIED:20241207T202947Z
UID:40082-1757822400-1757908799@www.olgsga.ch
SUMMARY:CH-Meisterschaft Staffel (SOM)
DESCRIPTION:\n\n\nKarte/Ort:\nBatzberg\n\n\nRegion:\nZH/SH\n\n\nDetails:\nhttps://o-l.ch/cgi-bin/fixtures?&mode=show&unique_id=12434\n\n\n\n
URL:http://www.olgsga.ch/event/ch-meisterschaft-staffel-som/
CATEGORIES:Nationale Saison
END:VEVENT
END:VCALENDAR