BEGIN:VCALENDAR
VERSION:2.0
PRODID:-//OLG St.Gallen/Appenzell - ECPv4.6.21//NONSGML v1.0//EN
CALSCALE:GREGORIAN
METHOD:PUBLISH
X-WR-CALNAME:OLG St.Gallen/Appenzell
X-ORIGINAL-URL:http://www.olgsga.ch
X-WR-CALDESC:Veranstaltungen für OLG St.Gallen/Appenzell
BEGIN:VEVENT
DTSTART;VALUE=DATE:20210627
DTEND;VALUE=DATE:20210629
DTSTAMP:20260420T200122
CREATED:20201226T170444Z
LAST-MODIFIED:20201226T170444Z
UID:17900-1624766400-1624852799@www.olgsga.ch
SUMMARY:CH-Meisterschaft Staffel OL (SOM)
DESCRIPTION:\n\n\nKarte/Ort:\nGrand Belmont\n\n\nRegion:\nSR\n\n\nDetails:\nhttps://o-l.ch/cgi-bin/fixtures?&mode=show&unique_id=10356\n\n\n\n
URL:http://www.olgsga.ch/event/ch-meisterschaft-staffel-ol-som/
CATEGORIES:Nationale Saison
END:VEVENT
END:VCALENDAR