BEGIN:VCALENDAR
VERSION:2.0
PRODID:-//OLG St.Gallen/Appenzell - ECPv4.6.21//NONSGML v1.0//EN
CALSCALE:GREGORIAN
METHOD:PUBLISH
X-WR-CALNAME:OLG St.Gallen/Appenzell
X-ORIGINAL-URL:http://www.olgsga.ch
X-WR-CALDESC:Veranstaltungen für OLG St.Gallen/Appenzell
BEGIN:VEVENT
DTSTART;VALUE=DATE:20210509
DTEND;VALUE=DATE:20210511
DTSTAMP:20260420T230809
CREATED:20201226T160707Z
LAST-MODIFIED:20201226T160707Z
UID:17885-1620532800-1620619199@www.olgsga.ch
SUMMARY:CH-Meisterschaft Sprint (SPM)
DESCRIPTION:\n\n\nKarte/Ort:\nLaufen\n\n\nRegion:\nNWS\n\n\nDetails:\nhttps://o-l.ch/cgi-bin/fixtures?&mode=show&unique_id=10354\n\n\n\n
URL:http://www.olgsga.ch/event/ch-meisterschaft-sprint-spm/
CATEGORIES:Nationale Saison
END:VEVENT
END:VCALENDAR