BEGIN:VCALENDAR
VERSION:2.0
PRODID:-//OLG St.Gallen/Appenzell - ECPv4.6.21//NONSGML v1.0//EN
CALSCALE:GREGORIAN
METHOD:PUBLISH
X-WR-CALNAME:OLG St.Gallen/Appenzell
X-ORIGINAL-URL:http://www.olgsga.ch
X-WR-CALDESC:Veranstaltungen für OLG St.Gallen/Appenzell
BEGIN:VEVENT
DTSTART;VALUE=DATE:20210924
DTEND;VALUE=DATE:20210926
DTSTAMP:20260420T162707
CREATED:20201226T174859Z
LAST-MODIFIED:20201226T174859Z
UID:17924-1632456000-1632542399@www.olgsga.ch
SUMMARY:CH-Meisterschaft Nacht OL (NOM)
DESCRIPTION:\n\n\nKarte/Ort:\nBettmeralp\n\n\nRegion:\nSR\n\n\nDetails:\nhttps://o-l.ch/cgi-bin/fixtures?&mode=show&unique_id=10358\n\n\n\n
URL:http://www.olgsga.ch/event/ch-meisterschaft-nacht-ol-nom/
CATEGORIES:Nationale Saison
END:VEVENT
END:VCALENDAR