BEGIN:VCALENDAR
VERSION:2.0
PRODID:-//OLG St.Gallen/Appenzell - ECPv4.6.21//NONSGML v1.0//EN
CALSCALE:GREGORIAN
METHOD:PUBLISH
X-WR-CALNAME:OLG St.Gallen/Appenzell
X-ORIGINAL-URL:http://www.olgsga.ch
X-WR-CALDESC:Veranstaltungen für OLG St.Gallen/Appenzell
BEGIN:VEVENT
DTSTART;VALUE=DATE:20210911
DTEND;VALUE=DATE:20210913
DTSTAMP:20260420T144253
CREATED:20201226T174527Z
LAST-MODIFIED:20201226T174527Z
UID:17917-1631332800-1631419199@www.olgsga.ch
SUMMARY:CH-Meisterschaft Mitteldistanz (MOM)
DESCRIPTION:\n\n\nKarte/Ort:\nMarbachegg\n\n\nRegion:\nZS\n\n\nDetails:\nhttps://o-l.ch/cgi-bin/fixtures?&mode=show&unique_id=10362\n\n\n\n
URL:http://www.olgsga.ch/event/ch-meisterschaft-mitteldistanz-mom/
CATEGORIES:Nationale Saison
END:VEVENT
END:VCALENDAR