BEGIN:VCALENDAR
VERSION:2.0
PRODID:-//OLG St.Gallen/Appenzell - ECPv4.6.21//NONSGML v1.0//EN
CALSCALE:GREGORIAN
METHOD:PUBLISH
X-WR-CALNAME:OLG St.Gallen/Appenzell
X-ORIGINAL-URL:http://www.olgsga.ch
X-WR-CALDESC:Veranstaltungen für OLG St.Gallen/Appenzell
BEGIN:VEVENT
DTSTART;VALUE=DATE:20250907
DTEND;VALUE=DATE:20250909
DTSTAMP:20260421T144233
CREATED:20241207T202847Z
LAST-MODIFIED:20241207T204721Z
UID:40080-1757217600-1757303999@www.olgsga.ch
SUMMARY:CH-Meisterschaft Langdistanz (LOM)
DESCRIPTION:\n\n\nKarte/Ort:\nMontagne de Lussy\n\n\nRegion:\nSR\n\n\nDetails:\nhttps://o-l.ch/cgi-bin/fixtures?&mode=show&unique_id=12429\n\n\n\n
URL:http://www.olgsga.ch/event/ch-meisterschaft-langdistanz-lom-2/
CATEGORIES:Nationale Saison
END:VEVENT
END:VCALENDAR