BEGIN:VCALENDAR
VERSION:2.0
PRODID:-//OLG St.Gallen/Appenzell - ECPv4.6.21//NONSGML v1.0//EN
CALSCALE:GREGORIAN
METHOD:PUBLISH
X-WR-CALNAME:OLG St.Gallen/Appenzell
X-ORIGINAL-URL:http://www.olgsga.ch
X-WR-CALDESC:Veranstaltungen für OLG St.Gallen/Appenzell
BEGIN:VEVENT
DTSTART;VALUE=DATE:20211009
DTEND;VALUE=DATE:20211012
DTSTAMP:20260420T165104
CREATED:20201226T184824Z
LAST-MODIFIED:20210626T093737Z
UID:17949-1633752000-1633924799@www.olgsga.ch
SUMMARY:ARGE ALP Weekend
DESCRIPTION:\n\n\nRegion:\nBayern (DE)\n\n\nDetails:\nAusschreibung\n\n\n\n
URL:http://www.olgsga.ch/event/arge-alp-weekend/
CATEGORIES:Regionale Saison,Vereinsanlässe
END:VEVENT
END:VCALENDAR