BEGIN:VCALENDAR
VERSION:2.0
PRODID:-//OLG St.Gallen/Appenzell - ECPv4.6.21//NONSGML v1.0//EN
CALSCALE:GREGORIAN
METHOD:PUBLISH
X-WR-CALNAME:OLG St.Gallen/Appenzell
X-ORIGINAL-URL:http://www.olgsga.ch
X-WR-CALDESC:Veranstaltungen für OLG St.Gallen/Appenzell
BEGIN:VEVENT
DTSTART;VALUE=DATE:20210502
DTEND;VALUE=DATE:20210504
DTSTAMP:20260420T192948
CREATED:20201226T160346Z
LAST-MODIFIED:20210403T090256Z
UID:17881-1619928000-1620014399@www.olgsga.ch
SUMMARY:9. thurgorienta OL
DESCRIPTION:\n\n\nKarte/Ort:\nDiessenhofen\n\n\nRegion:\nNOS\n\n\nDetails:\n\nhttps://thurgorienta.ch/2021/04/01/thurgorienta-ol-in-diessenhofen  \nhttps://o-l.ch/cgi-bin/fixtures?&mode=show&unique_id=10576 \n\n\n\n\n
URL:http://www.olgsga.ch/event/9-thurgorienta-ol/
CATEGORIES:Regionale Saison
END:VEVENT
END:VCALENDAR