BEGIN:VCALENDAR
VERSION:2.0
PRODID:-//OLG St.Gallen/Appenzell - ECPv4.6.21//NONSGML v1.0//EN
CALSCALE:GREGORIAN
METHOD:PUBLISH
X-WR-CALNAME:OLG St.Gallen/Appenzell
X-ORIGINAL-URL:http://www.olgsga.ch
X-WR-CALDESC:Veranstaltungen für OLG St.Gallen/Appenzell
BEGIN:VEVENT
DTSTART;VALUE=DATE:20220827
DTEND;VALUE=DATE:20220829
DTSTAMP:20260421T104953
CREATED:20211204T131837Z
LAST-MODIFIED:20211204T131837Z
UID:24417-1661572800-1661659199@www.olgsga.ch
SUMMARY:8. Nationaler OL (Mitteldistanz)
DESCRIPTION:\n\n\nKarte/Ort:\nCampra\n\n\nRegion:\nTI\n\n\nDetails:\nhttps://o-l.ch/cgi-bin/fixtures?&mode=show&unique_id=11004\n\n\nUnterkunft:\nAusschreibung Clubweekend\n\n\n\n
URL:http://www.olgsga.ch/event/8-nationaler-ol-mitteldistanz-2/
CATEGORIES:Nationale Saison
END:VEVENT
END:VCALENDAR