BEGIN:VCALENDAR
VERSION:2.0
PRODID:-//OLG St.Gallen/Appenzell - ECPv4.6.21//NONSGML v1.0//EN
CALSCALE:GREGORIAN
METHOD:PUBLISH
X-WR-CALNAME:OLG St.Gallen/Appenzell
X-ORIGINAL-URL:http://www.olgsga.ch
X-WR-CALDESC:Veranstaltungen für OLG St.Gallen/Appenzell
BEGIN:VEVENT
DTSTART;VALUE=DATE:20251026
DTEND;VALUE=DATE:20251028
DTSTAMP:20260421T153124
CREATED:20241207T203332Z
LAST-MODIFIED:20241207T203345Z
UID:40089-1761451200-1761537599@www.olgsga.ch
SUMMARY:69. Wiler OL (ROLV-Finallauf)
DESCRIPTION:\n\n\nKarte/Ort:\nDietschwiler Höchi\n\n\nRegion:\nNOS\n\n\nDetails:\nhttps://o-l.ch/cgi-bin/fixtures?&mode=show&unique_id=12766\n\n\n\n
URL:http://www.olgsga.ch/event/69-wiler-ol/
CATEGORIES:Regionale Saison
END:VEVENT
END:VCALENDAR