BEGIN:VCALENDAR
VERSION:2.0
PRODID:-//OLG St.Gallen/Appenzell - ECPv4.6.21//NONSGML v1.0//EN
CALSCALE:GREGORIAN
METHOD:PUBLISH
X-WR-CALNAME:OLG St.Gallen/Appenzell
X-ORIGINAL-URL:http://www.olgsga.ch
X-WR-CALDESC:Veranstaltungen für OLG St.Gallen/Appenzell
BEGIN:VEVENT
DTSTART;VALUE=DATE:20210307
DTEND;VALUE=DATE:20210309
DTSTAMP:20260420T213741
CREATED:20201226T154939Z
LAST-MODIFIED:20210123T195522Z
UID:17859-1615089600-1615175999@www.olgsga.ch
SUMMARY:69. Amriswiler OL ABGESAGT
DESCRIPTION:\n\n\nKarte/Ort:\nGüttingerwald ost\n\n\nRegion:\nNOS\n\n\nDetails:\nhttps://o-l.ch/cgi-bin/fixtures?&mode=show&unique_id=10573\n\n\n\n
URL:http://www.olgsga.ch/event/69-amriswiler-ol/
CATEGORIES:Regionale Saison
END:VEVENT
END:VCALENDAR