BEGIN:VCALENDAR
VERSION:2.0
PRODID:-//OLG St.Gallen/Appenzell - ECPv4.6.21//NONSGML v1.0//EN
CALSCALE:GREGORIAN
METHOD:PUBLISH
X-WR-CALNAME:OLG St.Gallen/Appenzell
X-ORIGINAL-URL:http://www.olgsga.ch
X-WR-CALDESC:Veranstaltungen für OLG St.Gallen/Appenzell
BEGIN:VEVENT
DTSTART;VALUE=DATE:20220418
DTEND;VALUE=DATE:20220420
DTSTAMP:20260420T220839
CREATED:20211204T130542Z
LAST-MODIFIED:20211204T130542Z
UID:24397-1650254400-1650340799@www.olgsga.ch
SUMMARY:68. Weinfelder OL
DESCRIPTION:\n\n\nKarte/Ort:\nBürglen urban\n\n\nRegion:\nNOS\n\n\nDetails:\nhttps://o-l.ch/cgi-bin/fixtures?&mode=show&unique_id=11307\n\n\n\n
URL:http://www.olgsga.ch/event/68-weinfelder-ol/
CATEGORIES:Regionale Saison
END:VEVENT
END:VCALENDAR