BEGIN:VCALENDAR
VERSION:2.0
PRODID:-//OLG St.Gallen/Appenzell - ECPv4.6.21//NONSGML v1.0//EN
CALSCALE:GREGORIAN
METHOD:PUBLISH
X-WR-CALNAME:OLG St.Gallen/Appenzell
X-ORIGINAL-URL:http://www.olgsga.ch
X-WR-CALDESC:Veranstaltungen für OLG St.Gallen/Appenzell
BEGIN:VEVENT
DTSTART;VALUE=DATE:20200301
DTEND;VALUE=DATE:20200303
DTSTAMP:20260421T162254
CREATED:20191117T204248Z
LAST-MODIFIED:20200315T210439Z
UID:16071-1583035200-1583121599@www.olgsga.ch
SUMMARY:68. Amriswiler OL ABGESAGT
DESCRIPTION:\n\n\nKarte:\nBätershausen\n\n\nRegion:\nNOS\n\n\nDetails:\nhttps://o-l.ch/cgi-bin/fixtures?&mode=show&unique_id=10145\n\n\n\n
URL:http://www.olgsga.ch/event/68-amriswiler-ol/
CATEGORIES:Regionale Saison
END:VEVENT
END:VCALENDAR