BEGIN:VCALENDAR
VERSION:2.0
PRODID:-//OLG St.Gallen/Appenzell - ECPv4.6.21//NONSGML v1.0//EN
CALSCALE:GREGORIAN
METHOD:PUBLISH
X-WR-CALNAME:OLG St.Gallen/Appenzell
X-ORIGINAL-URL:http://www.olgsga.ch
X-WR-CALDESC:Veranstaltungen für OLG St.Gallen/Appenzell
BEGIN:VEVENT
DTSTART;VALUE=DATE:20210822
DTEND;VALUE=DATE:20210824
DTSTAMP:20260420T180509
CREATED:20201226T174027Z
LAST-MODIFIED:20201226T174027Z
UID:17912-1629604800-1629691199@www.olgsga.ch
SUMMARY:67. Weinfelder OL
DESCRIPTION:\n\n\nKarte/Ort:\nSalen Reutenen\n\n\nRegion:\nNOS\n\n\nDetails:\nhttps://o-l.ch/cgi-bin/fixtures?&mode=show&unique_id=10577\n\n\n\n
URL:http://www.olgsga.ch/event/67-weinfelder-ol/
CATEGORIES:Regionale Saison
END:VEVENT
END:VCALENDAR