BEGIN:VCALENDAR
VERSION:2.0
PRODID:-//OLG St.Gallen/Appenzell - ECPv4.6.21//NONSGML v1.0//EN
CALSCALE:GREGORIAN
METHOD:PUBLISH
X-WR-CALNAME:OLG St.Gallen/Appenzell
X-ORIGINAL-URL:http://www.olgsga.ch
X-WR-CALDESC:Veranstaltungen für OLG St.Gallen/Appenzell
BEGIN:VEVENT
DTSTART;VALUE=DATE:20251004
DTEND;VALUE=DATE:20251006
DTSTAMP:20260421T134650
CREATED:20241207T203125Z
LAST-MODIFIED:20241207T203125Z
UID:40085-1759550400-1759636799@www.olgsga.ch
SUMMARY:6. Nationaler OL (Mitteldistanz)
DESCRIPTION:\n\n\nKarte/Ort:\nHeinzenberg\n\n\nRegion:\nGL/GR\n\n\nDetails:\nhttps://o-l.ch/cgi-bin/fixtures?&mode=show&unique_id=12436\n\n\n\n
URL:http://www.olgsga.ch/event/6-nationaler-ol-mitteldistanz/
CATEGORIES:Nationale Saison
END:VEVENT
END:VCALENDAR