BEGIN:VCALENDAR
VERSION:2.0
PRODID:-//OLG St.Gallen/Appenzell - ECPv4.6.21//NONSGML v1.0//EN
CALSCALE:GREGORIAN
METHOD:PUBLISH
X-WR-CALNAME:OLG St.Gallen/Appenzell
X-ORIGINAL-URL:http://www.olgsga.ch
X-WR-CALDESC:Veranstaltungen für OLG St.Gallen/Appenzell
BEGIN:VEVENT
DTSTART;VALUE=DATE:20210405
DTEND;VALUE=DATE:20210407
DTSTAMP:20260420T221239
CREATED:20201226T155610Z
LAST-MODIFIED:20210212T171125Z
UID:17869-1617595200-1617681599@www.olgsga.ch
SUMMARY:54. Engelburger OL ABGESAGT
DESCRIPTION:\n\n\nKarte/Ort:\nDorf Herisau\n\n\nRegion:\nNOS\n\n\nDetails:\nhttps://o-l.ch/cgi-bin/fixtures?&mode=show&unique_id=10574\n\n\n\n
URL:http://www.olgsga.ch/event/54-engelburger-ol/
CATEGORIES:Regionale Saison,Vereinsanlässe
ORGANIZER;CN="OLG%20St.Gallen%2FAppenzell":MAILTO:info@olgsga.ch
END:VEVENT
END:VCALENDAR