BEGIN:VCALENDAR
VERSION:2.0
PRODID:-//OLG St.Gallen/Appenzell - ECPv4.6.21//NONSGML v1.0//EN
CALSCALE:GREGORIAN
METHOD:PUBLISH
X-WR-CALNAME:OLG St.Gallen/Appenzell
X-ORIGINAL-URL:http://www.olgsga.ch
X-WR-CALDESC:Veranstaltungen für OLG St.Gallen/Appenzell
BEGIN:VEVENT
DTSTART;VALUE=DATE:20210410
DTEND;VALUE=DATE:20210412
DTSTAMP:20260421T011225
CREATED:20201226T155728Z
LAST-MODIFIED:20210207T095415Z
UID:17871-1618027200-1618113599@www.olgsga.ch
SUMMARY:4. Nationaler OL ABGESAGT
DESCRIPTION:\n\n\nKarte/Ort:\nMartinsflue\n\n\nRegion:\nBE/SO\n\n\nDetails:\nhttps://o-l.ch/cgi-bin/fixtures?&mode=show&unique_id=10349\n\n\n\n
URL:http://www.olgsga.ch/event/4-nationaler-ol-mitteldistanz/
CATEGORIES:Nationale Saison
END:VEVENT
END:VCALENDAR