BEGIN:VCALENDAR
VERSION:2.0
PRODID:-//OLG St.Gallen/Appenzell - ECPv4.6.21//NONSGML v1.0//EN
CALSCALE:GREGORIAN
METHOD:PUBLISH
X-WR-CALNAME:OLG St.Gallen/Appenzell
X-ORIGINAL-URL:http://www.olgsga.ch
X-WR-CALDESC:Veranstaltungen für OLG St.Gallen/Appenzell
BEGIN:VEVENT
DTSTART;VALUE=DATE:20211017
DTEND;VALUE=DATE:20211019
DTSTAMP:20260420T185023
CREATED:20210925T121343Z
LAST-MODIFIED:20210925T121343Z
UID:22656-1634443200-1634529599@www.olgsga.ch
SUMMARY:4. Baden-Württembergischer Landesranglistenlauf
DESCRIPTION:\n\n\nKarte/Ort:\nHildisburg\,  Zizenhausen bei Stockach\n\n\nVeranstalter:\nTV Zizenhausen\, Badischer Turner-Bund\, Schwäbischer Turnerbund\n\n\nDetails:\nAusschreibung\n\n\n\n
URL:http://www.olgsga.ch/event/4-baden-wuerttembergischer-landesranglistenlauf/
CATEGORIES:Regionale Saison
END:VEVENT
END:VCALENDAR