BEGIN:VCALENDAR
VERSION:2.0
PRODID:-//OLG St.Gallen/Appenzell - ECPv4.6.21//NONSGML v1.0//EN
CALSCALE:GREGORIAN
METHOD:PUBLISH
X-WR-CALNAME:OLG St.Gallen/Appenzell
X-ORIGINAL-URL:http://www.olgsga.ch
X-WR-CALDESC:Veranstaltungen für OLG St.Gallen/Appenzell
BEGIN:VEVENT
DTSTART;TZID=Europe/Zurich:20221203T130000
DTEND;TZID=Europe/Zurich:20221203T150000
DTSTAMP:20260421T180334
CREATED:20221031T062153Z
LAST-MODIFIED:20221130T181215Z
UID:32444-1670072400-1670079600@www.olgsga.ch
SUMMARY:32. Wiler Samichlaus OL
DESCRIPTION:Ausschreibung und weitere Informationen:\n https://olregiowil.ch/kalender/eventdetail/697/-/32-samichlaus-ol \n
URL:http://www.olgsga.ch/event/32-wiler-samichlaus-ol/
CATEGORIES:diverse Anlässe
END:VEVENT
END:VCALENDAR