BEGIN:VCALENDAR
VERSION:2.0
PRODID:-//OLG St.Gallen/Appenzell - ECPv4.6.21//NONSGML v1.0//EN
CALSCALE:GREGORIAN
METHOD:PUBLISH
X-WR-CALNAME:OLG St.Gallen/Appenzell
X-ORIGINAL-URL:http://www.olgsga.ch
X-WR-CALDESC:Veranstaltungen für OLG St.Gallen/Appenzell
BEGIN:VEVENT
DTSTART;TZID=Europe/Zurich:20200119T100000
DTEND;TZID=Europe/Zurich:20200119T100000
DTSTAMP:20260421T143711
CREATED:20191209T210144Z
LAST-MODIFIED:20191209T210433Z
UID:16248-1579428000-1579428000@www.olgsga.ch
SUMMARY:2. KO-Hallen-Sprint
DESCRIPTION:\n\n\nKarte:\nDreifachsporthalle Tellenfeld (Volleyball)\, 1:250\, Stand: 2020\n\n\nBahnlegung:\nCyrill Meier / Christian Kreis\n\n\nBesammlungsort:\nSporthalle Tellenfeld\, Amriswil\n\n\nAusschreibung:\nhttps://www.ol-amriswil.ch/agenda/kybun-ko-hallen-sprint\n\n\n\n
URL:http://www.olgsga.ch/event/2-ko-hallen-sprint/
CATEGORIES:Regionale Saison
END:VEVENT
END:VCALENDAR