BEGIN:VCALENDAR
VERSION:2.0
PRODID:-//OLG St.Gallen/Appenzell - ECPv4.6.21//NONSGML v1.0//EN
CALSCALE:GREGORIAN
METHOD:PUBLISH
X-WR-CALNAME:OLG St.Gallen/Appenzell
X-ORIGINAL-URL:http://www.olgsga.ch
X-WR-CALDESC:Veranstaltungen für OLG St.Gallen/Appenzell
BEGIN:VEVENT
DTSTART;VALUE=DATE:20210228
DTEND;VALUE=DATE:20210302
DTSTAMP:20260420T213916
CREATED:20201226T151520Z
LAST-MODIFIED:20210123T195430Z
UID:17856-1614484800-1614571199@www.olgsga.ch
SUMMARY:16. Stöff Memorial OL ABGESAGT
DESCRIPTION:\n\n\nKarte/Ort\nBettwieserberg/Hartenau\n\n\nRegion:\nNOS\n\n\nDetails:\nhttps://o-l.ch/cgi-bin/fixtures?&mode=show&unique_id=10575\n\n\n\n
URL:http://www.olgsga.ch/event/16-stoeff-memorial-ol/
CATEGORIES:Regionale Saison
END:VEVENT
END:VCALENDAR