BEGIN:VCALENDAR
VERSION:2.0
PRODID:-//OLG St.Gallen/Appenzell - ECPv4.6.21//NONSGML v1.0//EN
CALSCALE:GREGORIAN
METHOD:PUBLISH
X-WR-CALNAME:OLG St.Gallen/Appenzell
X-ORIGINAL-URL:http://www.olgsga.ch
X-WR-CALDESC:Veranstaltungen für OLG St.Gallen/Appenzell
BEGIN:VEVENT
DTSTART;VALUE=DATE:20220907
DTEND;VALUE=DATE:20220909
DTSTAMP:20260421T144142
CREATED:20211204T111610Z
LAST-MODIFIED:20220906T171848Z
UID:24372-1662523200-1662609599@www.olgsga.ch
SUMMARY:14. Heerbrüggler OL
DESCRIPTION:5. Lauf des Rheintaler OL-Cups 2022 \n\nGesamtausschreibung Rheintaler OL-Cup\nAusschreibung\nSituationsplan\nRangliste: folgt\nRangliste mit Zwischenzeiten: folgt\nRheintaler OL-Cup: Zwischenwertung nach dem 5. Lauf: folgt\n\n
URL:http://www.olgsga.ch/event/14-heerbrueggler-ol/
LOCATION:Karl-Völker-Strasse 7\, Heerbrugg\, 9435\, Schweiz
CATEGORIES:Rheintaler OL-Cup,Training
ORGANIZER;CN="OLG%20St.Gallen%2FAppenzell":MAILTO:info@olgsga.ch
END:VEVENT
END:VCALENDAR