BEGIN:VCALENDAR
VERSION:2.0
PRODID:-//OLG St.Gallen/Appenzell - ECPv4.6.21//NONSGML v1.0//EN
CALSCALE:GREGORIAN
METHOD:PUBLISH
X-WR-CALNAME:OLG St.Gallen/Appenzell
X-ORIGINAL-URL:http://www.olgsga.ch
X-WR-CALDESC:Veranstaltungen für OLG St.Gallen/Appenzell
BEGIN:VEVENT
DTSTART;VALUE=DATE:20250309
DTEND;VALUE=DATE:20250311
DTSTAMP:20260423T131953
CREATED:20241207T202226Z
LAST-MODIFIED:20241207T202226Z
UID:40069-1741492800-1741579199@www.olgsga.ch
SUMMARY:13. thurgorienta OL
DESCRIPTION:\n\n\nKarte/Ort:\nHörnliwald West\n\n\nRegion:\nNOS\n\n\nDetails:\nhttps://o-l.ch/cgi-bin/fixtures?&mode=show&unique_id=12759\n\n\n\n
URL:http://www.olgsga.ch/event/13-thurgorienta-ol/
CATEGORIES:Regionale Saison
END:VEVENT
END:VCALENDAR