BEGIN:VCALENDAR
VERSION:2.0
PRODID:-//OLG St.Gallen/Appenzell - ECPv4.6.21//NONSGML v1.0//EN
CALSCALE:GREGORIAN
METHOD:PUBLISH
X-WR-CALNAME:OLG St.Gallen/Appenzell
X-ORIGINAL-URL:http://www.olgsga.ch
X-WR-CALDESC:Veranstaltungen für OLG St.Gallen/Appenzell
BEGIN:VEVENT
DTSTART;VALUE=DATE:20210901
DTEND;VALUE=DATE:20210903
DTSTAMP:20260420T182906
CREATED:20210702T204512Z
LAST-MODIFIED:20210901T184200Z
UID:20521-1630468800-1630555199@www.olgsga.ch
SUMMARY:13. Heerbrüggler OL
DESCRIPTION:1. Lauf des Rheintaler OL-Cups 2021 \nAusschreibung / Situationsplan \n
URL:http://www.olgsga.ch/event/13-heerbrueggler-ol-1/
LOCATION:Karl-Völker-Strasse 7\, Heerbrugg\, 9435\, Schweiz
CATEGORIES:Rheintaler OL-Cup,Training
ORGANIZER;CN="OLG%20St.Gallen%2FAppenzell":MAILTO:info@olgsga.ch
END:VEVENT
END:VCALENDAR