BEGIN:VCALENDAR
VERSION:2.0
PRODID:-//OLG St.Gallen/Appenzell - ECPv4.6.21//NONSGML v1.0//EN
CALSCALE:GREGORIAN
METHOD:PUBLISH
X-WR-CALNAME:OLG St.Gallen/Appenzell
X-ORIGINAL-URL:http://www.olgsga.ch
X-WR-CALDESC:Veranstaltungen für OLG St.Gallen/Appenzell
BEGIN:VEVENT
DTSTART;VALUE=DATE:20210908
DTEND;VALUE=DATE:20210910
DTSTAMP:20260420T165110
CREATED:20210702T204709Z
LAST-MODIFIED:20210903T052506Z
UID:20523-1631073600-1631159999@www.olgsga.ch
SUMMARY:12. Widnauer Dorf-OL
DESCRIPTION:2. Lauf des Rheintaler OL-Cups 2021 \nAusschreibung / Situationsplan \n
URL:http://www.olgsga.ch/event/12-widnauer-dorf-ol-2/
LOCATION:Schlattgasse 3\, Widnau\, Schweiz
CATEGORIES:Rheintaler OL-Cup,Training
ORGANIZER;CN="OLG%20St.Gallen%2FAppenzell":MAILTO:info@olgsga.ch
END:VEVENT
END:VCALENDAR