BEGIN:VCALENDAR
VERSION:2.0
PRODID:-//OLG St.Gallen/Appenzell - ECPv4.6.21//NONSGML v1.0//EN
CALSCALE:GREGORIAN
METHOD:PUBLISH
X-WR-CALNAME:OLG St.Gallen/Appenzell
X-ORIGINAL-URL:http://www.olgsga.ch
X-WR-CALDESC:Veranstaltungen für OLG St.Gallen/Appenzell
BEGIN:VEVENT
DTSTART;VALUE=DATE:20210626
DTEND;VALUE=DATE:20210628
DTSTAMP:20260420T214056
CREATED:20201226T161634Z
LAST-MODIFIED:20201226T161634Z
UID:17898-1624680000-1624766399@www.olgsga.ch
SUMMARY:10. Nationaler OL (Mitteldistanz)
DESCRIPTION:\n\n\nKarte/Ort:\nBois de la Bandeire\n\n\nRegion:\nSR\n\n\nDetails:\nhttps://o-l.ch/cgi-bin/fixtures?&mode=show&unique_id=10355\n\n\n\n
URL:http://www.olgsga.ch/event/10-nationaler-ol-mitteldistanz/
CATEGORIES:Nationale Saison
END:VEVENT
END:VCALENDAR