BEGIN:VCALENDAR
VERSION:2.0
PRODID:-//OLG St.Gallen/Appenzell - ECPv4.6.21//NONSGML v1.0//EN
CALSCALE:GREGORIAN
METHOD:PUBLISH
X-WR-CALNAME:OLG St.Gallen/Appenzell
X-ORIGINAL-URL:http://www.olgsga.ch
X-WR-CALDESC:Veranstaltungen für OLG St.Gallen/Appenzell
BEGIN:VEVENT
DTSTART;VALUE=DATE:20220904
DTEND;VALUE=DATE:20220906
DTSTAMP:20260421T123850
CREATED:20211204T132040Z
LAST-MODIFIED:20211204T132040Z
UID:24422-1662264000-1662350399@www.olgsga.ch
SUMMARY:10. Nationaler OL (Langdistanz)
DESCRIPTION:\n\n\nKarte/Ort:\nKei-Tiersteinberg\n\n\nRegion:\nNWS\n\n\nDetails:\nhttps://o-l.ch/cgi-bin/fixtures?&mode=show&unique_id=11008\n\n\n\n
URL:http://www.olgsga.ch/event/10-nationaler-ol-langdistanz/
CATEGORIES:Nationale Saison
END:VEVENT
END:VCALENDAR