BEGIN:VCALENDAR
VERSION:2.0
PRODID:-//OLG St.Gallen/Appenzell - ECPv4.6.21//NONSGML v1.0//EN
CALSCALE:GREGORIAN
METHOD:PUBLISH
X-WR-CALNAME:OLG St.Gallen/Appenzell
X-ORIGINAL-URL:http://www.olgsga.ch
X-WR-CALDESC:Veranstaltungen für OLG St.Gallen/Appenzell
BEGIN:VEVENT
DTSTART;VALUE=DATE:20200315
DTEND;VALUE=DATE:20200317
DTSTAMP:20260421T163337
CREATED:20191117T205006Z
LAST-MODIFIED:20200315T210400Z
UID:16075-1584244800-1584331199@www.olgsga.ch
SUMMARY:1. Nationaler OL (Ultra Langdistanz) ABGESAGT
DESCRIPTION:\n\n\nKarte:\nLangholz/Fätzholz\n\n\nOrt:\nRothrist\n\n\nRegion:\nAG\n\n\nDetails:\nhttps://o-l.ch/cgi-bin/fixtures?&mode=show&unique_id=9896\n\n\n\n
URL:http://www.olgsga.ch/event/1-nationaler-ol-ultra-langdistanz/
CATEGORIES:Nationale Saison
END:VEVENT
END:VCALENDAR