BEGIN:VCALENDAR
VERSION:2.0
PRODID:-//OLG St.Gallen/Appenzell - ECPv4.6.21//NONSGML v1.0//EN
CALSCALE:GREGORIAN
METHOD:PUBLISH
X-WR-CALNAME:OLG St.Gallen/Appenzell
X-ORIGINAL-URL:http://www.olgsga.ch
X-WR-CALDESC:Veranstaltungen für OLG St.Gallen/Appenzell
BEGIN:VEVENT
DTSTART;VALUE=DATE:20210314
DTEND;VALUE=DATE:20210316
DTSTAMP:20260420T200333
CREATED:20201226T155125Z
LAST-MODIFIED:20210207T095255Z
UID:17862-1615694400-1615780799@www.olgsga.ch
SUMMARY:1. Nationaler OL ABGESAGT
DESCRIPTION:\n\n\nKarte/Ort:\nLangholz\, Rothrist\n\n\nRegion:\nAG\n\n\nDetails:\nhttps://o-l.ch/cgi-bin/fixtures?&mode=show&unique_id=10763\n\n\n\n
URL:http://www.olgsga.ch/event/1-nationaler-ol-ultra-langdistanz-2/
CATEGORIES:Nationale Saison
END:VEVENT
END:VCALENDAR