BEGIN:VCALENDAR
VERSION:2.0
PRODID:-//OLG St.Gallen/Appenzell - ECPv4.6.21//NONSGML v1.0//EN
CALSCALE:GREGORIAN
METHOD:PUBLISH
X-WR-CALNAME:OLG St.Gallen/Appenzell
X-ORIGINAL-URL:http://www.olgsga.ch
X-WR-CALDESC:Veranstaltungen für OLG St.Gallen/Appenzell
BEGIN:VEVENT
DTSTART;VALUE=DATE:20250329
DTEND;VALUE=DATE:20250331
DTSTAMP:20260423T112513
CREATED:20241207T202313Z
LAST-MODIFIED:20241207T202313Z
UID:40070-1743220800-1743307199@www.olgsga.ch
SUMMARY:1. Nationaler OL (Mitteldistanz)
DESCRIPTION:\n\n\nKarte/Ort:\nStrassberg\n\n\nRegion:\nZH/SH\n\n\nDetails:\nhttps://o-l.ch/cgi-bin/fixtures?&mode=show&unique_id=12422\n\n\n\n
URL:http://www.olgsga.ch/event/1-nationaler-ol-mitteldistanz-3/
CATEGORIES:Nationale Saison
END:VEVENT
END:VCALENDAR